BEGIN:VCALENDAR
VERSION:2.0
PRODID:icalendar-ruby
CALSCALE:GREGORIAN
METHOD:PUBLISH
BEGIN:VEVENT
DTSTAMP:20260420T003355Z
UID:65-130330@wellscongregational.org
DTSTART:20261029T140000Z
DTEND:20261029T153000Z
CLASS:PUBLIC
CREATED:20260419T193214
DESCRIPTION:Join our small group for guided centering prayer and Lectio Div
 ina. 
LAST-MODIFIED:20260419T193214
LOCATION:Congregational Church of Wells
SUMMARY:Centering Prayer
URL;VALUE=URI:https://www.wellscongregational.org/events/centering-prayer/2
 026-10-29
END:VEVENT
END:VCALENDAR
