BEGIN:VCALENDAR
VERSION:2.0
PRODID:icalendar-ruby
CALSCALE:GREGORIAN
METHOD:PUBLISH
BEGIN:VEVENT
DTSTAMP:20260419T180840Z
UID:65-130094@wellscongregational.org
DTSTART:20261001T140000Z
DTEND:20261001T153000Z
CLASS:PUBLIC
CREATED:20260419T120719
DESCRIPTION:Join our small group for guided centering prayer and Lectio Div
 ina. 
LAST-MODIFIED:20260419T120719
LOCATION:Congregational Church of Wells
SUMMARY:Centering Prayer
URL;VALUE=URI:https://www.wellscongregational.org/events/centering-prayer/2
 026-10-01
END:VEVENT
END:VCALENDAR
