BEGIN:VCALENDAR
VERSION:2.0
PRODID:icalendar-ruby
CALSCALE:GREGORIAN
METHOD:PUBLISH
BEGIN:VEVENT
DTSTAMP:20260419T160016Z
UID:65-129977@wellscongregational.org
DTSTART:20260924T140000Z
DTEND:20260924T153000Z
CLASS:PUBLIC
CREATED:20260419T082503
DESCRIPTION:Join our small group for guided centering prayer and Lectio Div
 ina. 
LAST-MODIFIED:20260419T082503
LOCATION:Congregational Church of Wells
SUMMARY:Centering Prayer
URL;VALUE=URI:https://www.wellscongregational.org/events/centering-prayer/2
 026-09-24
END:VEVENT
END:VCALENDAR
